BEGIN:VCALENDAR
VERSION:2.0
PRODID:-//山口市菜香亭 - ECPv5.8.0//NONSGML v1.0//EN
CALSCALE:GREGORIAN
METHOD:PUBLISH
X-WR-CALNAME:山口市菜香亭
X-ORIGINAL-URL:https://saikoutei.jp
X-WR-CALDESC:山口市菜香亭 のイベント
BEGIN:VTIMEZONE
TZID:Asia/Tokyo
BEGIN:STANDARD
TZOFFSETFROM:+0900
TZOFFSETTO:+0900
TZNAME:JST
DTSTART:20220101T000000
END:STANDARD
END:VTIMEZONE
BEGIN:VEVENT
DTSTART;TZID=Asia/Tokyo:20220713T090000
DTEND;TZID=Asia/Tokyo:20220912T170000
DTSTAMP:20260426T015011
CREATED:20220712T015141Z
LAST-MODIFIED:20220712T015141Z
UID:1791-1657702800-1663002000@saikoutei.jp
SUMMARY:企画展「大内氏の年中行事」（ぐるり！大内文化ゾーン　築山跡史跡公園オープン記念事業）
DESCRIPTION:
URL:https://saikoutei.jp/monthly_event/tribe_events-1791/
CATEGORIES:企画・講演会
END:VEVENT
BEGIN:VEVENT
DTSTART;TZID=Asia/Tokyo:20220903T100000
DTEND;TZID=Asia/Tokyo:20220903T120000
DTSTAMP:20260426T015011
CREATED:20220804T085859Z
LAST-MODIFIED:20220804T085859Z
UID:2066-1662199200-1662206400@saikoutei.jp
SUMMARY:講演会「重陽の節句に学ぶ」
DESCRIPTION:
URL:https://saikoutei.jp/monthly_event/tribe_events-2066/
CATEGORIES:企画・講演会
END:VEVENT
BEGIN:VEVENT
DTSTART;TZID=Asia/Tokyo:20220914T080000
DTEND;TZID=Asia/Tokyo:20221010T170000
DTSTAMP:20260426T015011
CREATED:20220913T003712Z
LAST-MODIFIED:20220913T003712Z
UID:2134-1663142400-1665421200@saikoutei.jp
SUMMARY:企画展「菜香亭に伝わる狩野派展」
DESCRIPTION:
URL:https://saikoutei.jp/monthly_event/tribe_events-2134/
END:VEVENT
BEGIN:VEVENT
DTSTART;TZID=Asia/Tokyo:20220917T180000
DTEND;TZID=Asia/Tokyo:20220917T203000
DTSTAMP:20260426T015011
CREATED:20220819T011024Z
LAST-MODIFIED:20220819T011024Z
UID:1987-1663437600-1663446600@saikoutei.jp
SUMMARY:講演会「大内義弘とその時代」
DESCRIPTION:
URL:https://saikoutei.jp/monthly_event/tribe_events-1987/
CATEGORIES:企画・講演会
END:VEVENT
END:VCALENDAR