BEGIN:VCALENDAR
VERSION:2.0
PRODID:-//山口市菜香亭 - ECPv5.8.0//NONSGML v1.0//EN
CALSCALE:GREGORIAN
METHOD:PUBLISH
X-WR-CALNAME:山口市菜香亭
X-ORIGINAL-URL:https://saikoutei.jp
X-WR-CALDESC:山口市菜香亭 のイベント
BEGIN:VTIMEZONE
TZID:Asia/Tokyo
BEGIN:STANDARD
TZOFFSETFROM:+0900
TZOFFSETTO:+0900
TZNAME:JST
DTSTART:20220101T000000
END:STANDARD
END:VTIMEZONE
BEGIN:VEVENT
DTSTART;TZID=Asia/Tokyo:20221013T090000
DTEND;TZID=Asia/Tokyo:20221226T170000
DTSTAMP:20260425T220029
CREATED:20220913T003705Z
LAST-MODIFIED:20221217T075227Z
UID:2136-1665651600-1672074000@saikoutei.jp
SUMMARY:企画展「山田顕義」
DESCRIPTION:
URL:https://saikoutei.jp/monthly_event/tribe_events-2136/
CATEGORIES:企画・講演会
END:VEVENT
BEGIN:VEVENT
DTSTART;TZID=Asia/Tokyo:20221203T173000
DTEND;TZID=Asia/Tokyo:20221203T190000
DTSTAMP:20260425T220029
CREATED:20221027T070010Z
LAST-MODIFIED:20221027T070010Z
UID:2283-1670088600-1670094000@saikoutei.jp
SUMMARY:～音の魔術師 神木涼 クリスマスライブ～開催
DESCRIPTION:
URL:https://saikoutei.jp/monthly_event/tribe_events-2283/
CATEGORIES:イベント
END:VEVENT
BEGIN:VEVENT
DTSTART;TZID=Asia/Tokyo:20221210T140000
DTEND;TZID=Asia/Tokyo:20221210T153000
DTSTAMP:20260425T220029
CREATED:20221114T052837Z
LAST-MODIFIED:20221208T035014Z
UID:2336-1670680800-1670686200@saikoutei.jp
SUMMARY:企画展「山田顕義」ギャラリートーク
DESCRIPTION:
URL:https://saikoutei.jp/monthly_event/tribe_events-2336/
CATEGORIES:イベント,企画・講演会
END:VEVENT
BEGIN:VEVENT
DTSTART;VALUE=DATE:20221229
DTEND;VALUE=DATE:20230104
DTSTAMP:20260425T220029
CREATED:20220625T010033Z
LAST-MODIFIED:20220625T011645Z
UID:1242-1672272000-1672790399@saikoutei.jp
SUMMARY:年末年始休館
DESCRIPTION:
URL:https://saikoutei.jp/monthly_event/tribe_events-1242/
END:VEVENT
END:VCALENDAR