BEGIN:VCALENDAR
VERSION:2.0
PRODID:-//山口市菜香亭 - ECPv5.8.0//NONSGML v1.0//EN
CALSCALE:GREGORIAN
METHOD:PUBLISH
X-WR-CALNAME:山口市菜香亭
X-ORIGINAL-URL:https://saikoutei.jp
X-WR-CALDESC:山口市菜香亭 のイベント
BEGIN:VTIMEZONE
TZID:Asia/Tokyo
BEGIN:STANDARD
TZOFFSETFROM:+0900
TZOFFSETTO:+0900
TZNAME:JST
DTSTART:20230101T000000
END:STANDARD
END:VTIMEZONE
BEGIN:VEVENT
DTSTART;TZID=Asia/Tokyo:20230531T090000
DTEND;TZID=Asia/Tokyo:20230828T170000
DTSTAMP:20260425T101429
CREATED:20230523T230010Z
LAST-MODIFIED:20230527T021835Z
UID:2813-1685523600-1693242000@saikoutei.jp
SUMMARY:企画展「おごうさんのお洒落ア・ラ・モード」
DESCRIPTION:
URL:https://saikoutei.jp/monthly_event/tribe_events-2813/
CATEGORIES:企画・講演会
END:VEVENT
BEGIN:VEVENT
DTSTART;VALUE=DATE:20230801
DTEND;VALUE=DATE:20230802
DTSTAMP:20260425T101429
CREATED:20210108T021542Z
LAST-MODIFIED:20221118T053122Z
UID:1228-1690848000-1690934399@saikoutei.jp
SUMMARY:休館日
DESCRIPTION:
URL:https://saikoutei.jp/monthly_event/tribe_events-1228/
END:VEVENT
BEGIN:VEVENT
DTSTART;TZID=Asia/Tokyo:20230805T100000
DTEND;TZID=Asia/Tokyo:20230805T113000
DTSTAMP:20260425T101429
CREATED:20230625T004732Z
LAST-MODIFIED:20230625T004732Z
UID:3267-1691229600-1691235000@saikoutei.jp
SUMMARY:親子でワークショップ「和紙で作ろう～この木なんの木？きになる木」
DESCRIPTION:
URL:https://saikoutei.jp/monthly_event/tribe_events-3267/
CATEGORIES:イベント
END:VEVENT
BEGIN:VEVENT
DTSTART;VALUE=DATE:20230808
DTEND;VALUE=DATE:20230809
DTSTAMP:20260425T101429
CREATED:20220108T021755Z
LAST-MODIFIED:20221118T053143Z
UID:1230-1691452800-1691539199@saikoutei.jp
SUMMARY:休館日
DESCRIPTION:
URL:https://saikoutei.jp/monthly_event/tribe_events-1230/
END:VEVENT
BEGIN:VEVENT
DTSTART;VALUE=DATE:20230815
DTEND;VALUE=DATE:20230816
DTSTAMP:20260425T101429
CREATED:20210108T021847Z
LAST-MODIFIED:20221118T053159Z
UID:1232-1692057600-1692143999@saikoutei.jp
SUMMARY:休館日
DESCRIPTION:
URL:https://saikoutei.jp/monthly_event/tribe_events-1232/
END:VEVENT
BEGIN:VEVENT
DTSTART;VALUE=DATE:20230822
DTEND;VALUE=DATE:20230823
DTSTAMP:20260425T101429
CREATED:20210108T022131Z
LAST-MODIFIED:20221118T053216Z
UID:1234-1692662400-1692748799@saikoutei.jp
SUMMARY:休館日
DESCRIPTION:
URL:https://saikoutei.jp/monthly_event/tribe_events-1234/
END:VEVENT
BEGIN:VEVENT
DTSTART;VALUE=DATE:20230829
DTEND;VALUE=DATE:20230830
DTSTAMP:20260425T101429
CREATED:20210108T022154Z
LAST-MODIFIED:20221118T053240Z
UID:1236-1693267200-1693353599@saikoutei.jp
SUMMARY:休館日
DESCRIPTION:
URL:https://saikoutei.jp/monthly_event/tribe_events-1236/
END:VEVENT
END:VCALENDAR