BEGIN:VCALENDAR
VERSION:2.0
PRODID:-//山口市菜香亭 - ECPv5.8.0//NONSGML v1.0//EN
CALSCALE:GREGORIAN
METHOD:PUBLISH
X-WR-CALNAME:山口市菜香亭
X-ORIGINAL-URL:https://saikoutei.jp
X-WR-CALDESC:山口市菜香亭 のイベント
BEGIN:VTIMEZONE
TZID:Asia/Tokyo
BEGIN:STANDARD
TZOFFSETFROM:+0900
TZOFFSETTO:+0900
TZNAME:JST
DTSTART:20220101T000000
END:STANDARD
END:VTIMEZONE
BEGIN:VEVENT
DTSTART;TZID=Asia/Tokyo:20220105T080000
DTEND;TZID=Asia/Tokyo:20220228T170000
DTSTAMP:20260426T130130
CREATED:20210927T081740Z
LAST-MODIFIED:20211104T013007Z
UID:879-1641369600-1646067600@saikoutei.jp
SUMMARY:2022年を漢字一文字で表す書道展
DESCRIPTION:
URL:https://saikoutei.jp/monthly_event/tribe_events-879/
LOCATION:大広間 下の間
CATEGORIES:企画・講演会
END:VEVENT
END:VCALENDAR