BEGIN:VCALENDAR
VERSION:2.0
PRODID:-//山口市菜香亭 - ECPv5.8.0//NONSGML v1.0//EN
CALSCALE:GREGORIAN
METHOD:PUBLISH
X-WR-CALNAME:山口市菜香亭
X-ORIGINAL-URL:https://saikoutei.jp
X-WR-CALDESC:山口市菜香亭 のイベント
BEGIN:VTIMEZONE
TZID:Asia/Tokyo
BEGIN:STANDARD
TZOFFSETFROM:+0900
TZOFFSETTO:+0900
TZNAME:JST
DTSTART:20220101T000000
END:STANDARD
END:VTIMEZONE
BEGIN:VEVENT
DTSTART;TZID=Asia/Tokyo:20220302T080000
DTEND;TZID=Asia/Tokyo:20220530T170000
DTSTAMP:20260426T114352
CREATED:20220119T130512Z
LAST-MODIFIED:20220119T130512Z
UID:1388-1646208000-1653930000@saikoutei.jp
SUMMARY:企画展「菜香亭に集いし人の花押」
DESCRIPTION:
URL:https://saikoutei.jp/monthly_event/tribe_events-1388/
LOCATION:大広間 下の間
CATEGORIES:企画・講演会
END:VEVENT
END:VCALENDAR