BEGIN:VCALENDAR
VERSION:2.0
PRODID:-//山口市菜香亭 - ECPv5.8.0//NONSGML v1.0//EN
CALSCALE:GREGORIAN
METHOD:PUBLISH
X-WR-CALNAME:山口市菜香亭
X-ORIGINAL-URL:https://saikoutei.jp
X-WR-CALDESC:山口市菜香亭 のイベント
BEGIN:VTIMEZONE
TZID:Asia/Tokyo
BEGIN:STANDARD
TZOFFSETFROM:+0900
TZOFFSETTO:+0900
TZNAME:JST
DTSTART:20220101T000000
END:STANDARD
END:VTIMEZONE
BEGIN:VEVENT
DTSTART;VALUE=DATE:20221229
DTEND;VALUE=DATE:20230104
DTSTAMP:20260425T220029
CREATED:20220625T010033Z
LAST-MODIFIED:20220625T011645Z
UID:1242-1672272000-1672790399@saikoutei.jp
SUMMARY:年末年始休館
DESCRIPTION:
URL:https://saikoutei.jp/monthly_event/tribe_events-1242/
END:VEVENT
END:VCALENDAR