BEGIN:VCALENDAR
VERSION:2.0
PRODID:-//山口市菜香亭 - ECPv5.8.0//NONSGML v1.0//EN
CALSCALE:GREGORIAN
METHOD:PUBLISH
X-WR-CALNAME:山口市菜香亭
X-ORIGINAL-URL:https://saikoutei.jp
X-WR-CALDESC:山口市菜香亭 のイベント
BEGIN:VTIMEZONE
TZID:Asia/Tokyo
BEGIN:STANDARD
TZOFFSETFROM:+0900
TZOFFSETTO:+0900
TZNAME:JST
DTSTART:20230101T000000
END:STANDARD
END:VTIMEZONE
BEGIN:VEVENT
DTSTART;TZID=Asia/Tokyo:20230104T080000
DTEND;TZID=Asia/Tokyo:20230227T170000
DTSTAMP:20260425T215746
CREATED:20221210T010038Z
LAST-MODIFIED:20221225T072011Z
UID:2285-1672819200-1677517200@saikoutei.jp
SUMMARY:企画展「2023年を漢字一文字で表す書道展」
DESCRIPTION:
URL:https://saikoutei.jp/monthly_event/tribe_events-2285/
CATEGORIES:企画・講演会
END:VEVENT
BEGIN:VEVENT
DTSTART;TZID=Asia/Tokyo:20230128T100000
DTEND;TZID=Asia/Tokyo:20230128T113000
DTSTAMP:20260425T215746
CREATED:20221210T010054Z
LAST-MODIFIED:20221217T075249Z
UID:2334-1674900000-1674905400@saikoutei.jp
SUMMARY:2023年を漢字一字で表す書道展 表彰式
DESCRIPTION:
URL:https://saikoutei.jp/monthly_event/tribe_events-2334/
CATEGORIES:イベント,企画・講演会
END:VEVENT
END:VCALENDAR