BEGIN:VCALENDAR
VERSION:2.0
PRODID:-//山口市菜香亭 - ECPv5.8.0//NONSGML v1.0//EN
CALSCALE:GREGORIAN
METHOD:PUBLISH
X-WR-CALNAME:山口市菜香亭
X-ORIGINAL-URL:https://saikoutei.jp
X-WR-CALDESC:山口市菜香亭 のイベント
BEGIN:VTIMEZONE
TZID:Asia/Tokyo
BEGIN:STANDARD
TZOFFSETFROM:+0900
TZOFFSETTO:+0900
TZNAME:JST
DTSTART:20230101T000000
END:STANDARD
END:VTIMEZONE
BEGIN:VEVENT
DTSTART;TZID=Asia/Tokyo:20230301T090000
DTEND;TZID=Asia/Tokyo:20230529T170000
DTSTAMP:20260425T192651
CREATED:20230228T010055Z
LAST-MODIFIED:20230402T063939Z
UID:2779-1677661200-1685379600@saikoutei.jp
SUMMARY:企画展「酔有宜～山口の酒と菜香亭～」
DESCRIPTION:
URL:https://saikoutei.jp/monthly_event/tribe_events-2779/
CATEGORIES:企画・講演会
END:VEVENT
END:VCALENDAR