BEGIN:VCALENDAR
VERSION:2.0
PRODID:-//山口市菜香亭 - ECPv5.8.0//NONSGML v1.0//EN
CALSCALE:GREGORIAN
METHOD:PUBLISH
X-WR-CALNAME:山口市菜香亭
X-ORIGINAL-URL:https://saikoutei.jp
X-WR-CALDESC:山口市菜香亭 のイベント
BEGIN:VTIMEZONE
TZID:Asia/Tokyo
BEGIN:STANDARD
TZOFFSETFROM:+0900
TZOFFSETTO:+0900
TZNAME:JST
DTSTART:20230101T000000
END:STANDARD
END:VTIMEZONE
BEGIN:VEVENT
DTSTART;TZID=Asia/Tokyo:20230901T080000
DTEND;TZID=Asia/Tokyo:20231225T170000
DTSTAMP:20260425T085130
CREATED:20230727T114428Z
LAST-MODIFIED:20230727T114428Z
UID:3387-1693555200-1703523600@saikoutei.jp
SUMMARY:企画展「岩倉使節団と木戸孝允～菜香亭創業前夜～」
DESCRIPTION:
URL:https://saikoutei.jp/monthly_event/tribe_events-3387/
CATEGORIES:企画・講演会
END:VEVENT
BEGIN:VEVENT
DTSTART;TZID=Asia/Tokyo:20231014T180000
DTEND;TZID=Asia/Tokyo:20231014T200000
DTSTAMP:20260425T085130
CREATED:20230911T093641Z
LAST-MODIFIED:20230911T102024Z
UID:3524-1697306400-1697313600@saikoutei.jp
SUMMARY:講演会「木戸孝允と岩倉使節団」
DESCRIPTION:今年は維新三傑のひとり、木戸孝允の生誕１９０年にあたります。 \n幕末から明治維新へ―近代日本への道筋をつけた木戸の生涯・足跡、木戸が副使をつとめた岩倉使節団について紹介します。 \n▼日時　令和５年10月14日（土）18時～20時\n▼定員　60名（要予約・９月15日（金）から電話受付）\n▼講師　一坂太郎（萩博物館特別学芸員）\n▼参加料　２００円\n▼問合せ・申込み　山口市菜香亭（山口市天花１丁目２-７）　ＴＥＬ ０８３-９３４-３３１２ \n〇開催中　山口市菜香亭 企画展「岩倉使節団と木戸孝允～菜香亭創業前夜～」　\n　　　　　　　　　　　　 期間　令和５年９月１日（金）～１２月２５日（月）　９時～１７時（火曜日休館） \n \n \n 
URL:https://saikoutei.jp/monthly_event/tribe_events-3524/
CATEGORIES:企画・講演会
ATTACH;FMTTYPE=image/jpeg:https://saikoutei.jp/wp/wp-content/uploads/2023/07/iwakura2.jpg
END:VEVENT
END:VCALENDAR